BEGIN:VCALENDAR
VERSION:2.0
PRODID:-//Interfaith Welcome Coalition - ECPv6.15.20//NONSGML v1.0//EN
CALSCALE:GREGORIAN
METHOD:PUBLISH
X-ORIGINAL-URL:https://interfaithwelcomecoalition.org
X-WR-CALDESC:Events for Interfaith Welcome Coalition
REFRESH-INTERVAL;VALUE=DURATION:PT1H
X-Robots-Tag:noindex
X-PUBLISHED-TTL:PT1H
BEGIN:VTIMEZONE
TZID:America/Chicago
BEGIN:DAYLIGHT
TZOFFSETFROM:-0600
TZOFFSETTO:-0500
TZNAME:CDT
DTSTART:20240310T080000
END:DAYLIGHT
BEGIN:STANDARD
TZOFFSETFROM:-0500
TZOFFSETTO:-0600
TZNAME:CST
DTSTART:20241103T070000
END:STANDARD
BEGIN:DAYLIGHT
TZOFFSETFROM:-0600
TZOFFSETTO:-0500
TZNAME:CDT
DTSTART:20250309T080000
END:DAYLIGHT
BEGIN:STANDARD
TZOFFSETFROM:-0500
TZOFFSETTO:-0600
TZNAME:CST
DTSTART:20251102T070000
END:STANDARD
BEGIN:DAYLIGHT
TZOFFSETFROM:-0600
TZOFFSETTO:-0500
TZNAME:CDT
DTSTART:20260308T080000
END:DAYLIGHT
BEGIN:STANDARD
TZOFFSETFROM:-0500
TZOFFSETTO:-0600
TZNAME:CST
DTSTART:20261101T070000
END:STANDARD
BEGIN:DAYLIGHT
TZOFFSETFROM:-0600
TZOFFSETTO:-0500
TZNAME:CDT
DTSTART:20270314T080000
END:DAYLIGHT
BEGIN:STANDARD
TZOFFSETFROM:-0500
TZOFFSETTO:-0600
TZNAME:CST
DTSTART:20271107T070000
END:STANDARD
END:VTIMEZONE
BEGIN:VEVENT
DTSTART;TZID=America/Chicago:20260202T200000
DTEND;TZID=America/Chicago:20260202T210000
DTSTAMP:20260423T145059
CREATED:20230607T030758Z
LAST-MODIFIED:20230607T212953Z
UID:10000407-1770062400-1770066000@interfaithwelcomecoalition.org
SUMMARY:IWC Advocacy Committee
DESCRIPTION:
URL:https://interfaithwelcomecoalition.org/event/iwc-advocacy-committee-2/2026-02-02/
LOCATION:Zoom
ATTACH;FMTTYPE=image/jpeg:https://eadn-wc04-5307158.nxedge.io/wp-content/uploads/2023/06/advocacy-e1686107156366.jpg
END:VEVENT
BEGIN:VEVENT
DTSTART;TZID=America/Chicago:20260123T100000
DTEND;TZID=America/Chicago:20260123T110000
DTSTAMP:20260423T145059
CREATED:20230607T033104Z
LAST-MODIFIED:20230607T034529Z
UID:10000710-1769162400-1769166000@interfaithwelcomecoalition.org
SUMMARY:Shelter Network Working Group - Fourth Friday
DESCRIPTION:
URL:https://interfaithwelcomecoalition.org/event/shelter-network-working-group-fourth-friday/2026-01-23/
LOCATION:Zoom
ATTACH;FMTTYPE=image/jpeg:https://eadn-wc04-5307158.nxedge.io/wp-content/uploads/2023/06/housing-e1686107639817.jpg
END:VEVENT
BEGIN:VEVENT
DTSTART;TZID=America/Chicago:20260109T100000
DTEND;TZID=America/Chicago:20260109T110000
DTSTAMP:20260423T145059
CREATED:20230607T033230Z
LAST-MODIFIED:20230607T034552Z
UID:10000770-1767952800-1767956400@interfaithwelcomecoalition.org
SUMMARY:Shelter Network Working Group - Second Friday
DESCRIPTION:
URL:https://interfaithwelcomecoalition.org/event/shelter-network-working-group-second-friday/2026-01-09/
LOCATION:Zoom
ATTACH;FMTTYPE=image/jpeg:https://eadn-wc04-5307158.nxedge.io/wp-content/uploads/2023/06/housing-e1686107639817.jpg
END:VEVENT
BEGIN:VEVENT
DTSTART;TZID=America/Chicago:20260108T100000
DTEND;TZID=America/Chicago:20260108T113000
DTSTAMP:20260423T145059
CREATED:20230606T001732Z
LAST-MODIFIED:20230606T194055Z
UID:10000249-1767866400-1767871800@interfaithwelcomecoalition.org
SUMMARY:IWC General Meeting
DESCRIPTION:[vc_row][vc_column][vc_column_text] \nThe IWC General meeting is held on the second Thursday of each month from 10 – 11:30 a.m. CST\n  \nFor zoom info please sign up to our mailing list or email sanantoniowelcome@gmail.com[/vc_column_text][/vc_column][/vc_row]
URL:https://interfaithwelcomecoalition.org/event/general-meeting-2-2/2026-01-08/
LOCATION:Zoom
CATEGORIES:IWC General Meeting
ATTACH;FMTTYPE=image/jpeg:https://eadn-wc04-5307158.nxedge.io/wp-content/uploads/2021/04/interfaith2-e1686011075150.jpeg
END:VEVENT
BEGIN:VEVENT
DTSTART;TZID=America/Chicago:20260105T200000
DTEND;TZID=America/Chicago:20260105T210000
DTSTAMP:20260423T145059
CREATED:20230607T030758Z
LAST-MODIFIED:20230607T212953Z
UID:10000406-1767643200-1767646800@interfaithwelcomecoalition.org
SUMMARY:IWC Advocacy Committee
DESCRIPTION:
URL:https://interfaithwelcomecoalition.org/event/iwc-advocacy-committee-2/2026-01-05/
LOCATION:Zoom
ATTACH;FMTTYPE=image/jpeg:https://eadn-wc04-5307158.nxedge.io/wp-content/uploads/2023/06/advocacy-e1686107156366.jpg
END:VEVENT
BEGIN:VEVENT
DTSTART;TZID=America/Chicago:20251226T100000
DTEND;TZID=America/Chicago:20251226T110000
DTSTAMP:20260423T145059
CREATED:20230607T033104Z
LAST-MODIFIED:20230607T034529Z
UID:10000709-1766743200-1766746800@interfaithwelcomecoalition.org
SUMMARY:Shelter Network Working Group - Fourth Friday
DESCRIPTION:
URL:https://interfaithwelcomecoalition.org/event/shelter-network-working-group-fourth-friday/2025-12-26/
LOCATION:Zoom
ATTACH;FMTTYPE=image/jpeg:https://eadn-wc04-5307158.nxedge.io/wp-content/uploads/2023/06/housing-e1686107639817.jpg
END:VEVENT
BEGIN:VEVENT
DTSTART;TZID=America/Chicago:20251212T100000
DTEND;TZID=America/Chicago:20251212T110000
DTSTAMP:20260423T145059
CREATED:20230607T033230Z
LAST-MODIFIED:20230607T034552Z
UID:10000769-1765533600-1765537200@interfaithwelcomecoalition.org
SUMMARY:Shelter Network Working Group - Second Friday
DESCRIPTION:
URL:https://interfaithwelcomecoalition.org/event/shelter-network-working-group-second-friday/2025-12-12/
LOCATION:Zoom
ATTACH;FMTTYPE=image/jpeg:https://eadn-wc04-5307158.nxedge.io/wp-content/uploads/2023/06/housing-e1686107639817.jpg
END:VEVENT
BEGIN:VEVENT
DTSTART;TZID=America/Chicago:20251211T100000
DTEND;TZID=America/Chicago:20251211T113000
DTSTAMP:20260423T145059
CREATED:20230606T001732Z
LAST-MODIFIED:20230606T194055Z
UID:10000248-1765447200-1765452600@interfaithwelcomecoalition.org
SUMMARY:IWC General Meeting
DESCRIPTION:[vc_row][vc_column][vc_column_text] \nThe IWC General meeting is held on the second Thursday of each month from 10 – 11:30 a.m. CST\n  \nFor zoom info please sign up to our mailing list or email sanantoniowelcome@gmail.com[/vc_column_text][/vc_column][/vc_row]
URL:https://interfaithwelcomecoalition.org/event/general-meeting-2-2/2025-12-11/
LOCATION:Zoom
CATEGORIES:IWC General Meeting
ATTACH;FMTTYPE=image/jpeg:https://eadn-wc04-5307158.nxedge.io/wp-content/uploads/2021/04/interfaith2-e1686011075150.jpeg
END:VEVENT
BEGIN:VEVENT
DTSTART;TZID=America/Chicago:20251201T200000
DTEND;TZID=America/Chicago:20251201T210000
DTSTAMP:20260423T145059
CREATED:20230607T030758Z
LAST-MODIFIED:20230607T212953Z
UID:10000405-1764619200-1764622800@interfaithwelcomecoalition.org
SUMMARY:IWC Advocacy Committee
DESCRIPTION:
URL:https://interfaithwelcomecoalition.org/event/iwc-advocacy-committee-2/2025-12-01/
LOCATION:Zoom
ATTACH;FMTTYPE=image/jpeg:https://eadn-wc04-5307158.nxedge.io/wp-content/uploads/2023/06/advocacy-e1686107156366.jpg
END:VEVENT
BEGIN:VEVENT
DTSTART;TZID=America/Chicago:20251128T100000
DTEND;TZID=America/Chicago:20251128T110000
DTSTAMP:20260423T145059
CREATED:20230607T033104Z
LAST-MODIFIED:20230607T034529Z
UID:10000708-1764324000-1764327600@interfaithwelcomecoalition.org
SUMMARY:Shelter Network Working Group - Fourth Friday
DESCRIPTION:
URL:https://interfaithwelcomecoalition.org/event/shelter-network-working-group-fourth-friday/2025-11-28/
LOCATION:Zoom
ATTACH;FMTTYPE=image/jpeg:https://eadn-wc04-5307158.nxedge.io/wp-content/uploads/2023/06/housing-e1686107639817.jpg
END:VEVENT
BEGIN:VEVENT
DTSTART;TZID=America/Chicago:20251114T100000
DTEND;TZID=America/Chicago:20251114T110000
DTSTAMP:20260423T145059
CREATED:20230607T033230Z
LAST-MODIFIED:20230607T034552Z
UID:10000768-1763114400-1763118000@interfaithwelcomecoalition.org
SUMMARY:Shelter Network Working Group - Second Friday
DESCRIPTION:
URL:https://interfaithwelcomecoalition.org/event/shelter-network-working-group-second-friday/2025-11-14/
LOCATION:Zoom
ATTACH;FMTTYPE=image/jpeg:https://eadn-wc04-5307158.nxedge.io/wp-content/uploads/2023/06/housing-e1686107639817.jpg
END:VEVENT
BEGIN:VEVENT
DTSTART;TZID=America/Chicago:20251113T100000
DTEND;TZID=America/Chicago:20251113T113000
DTSTAMP:20260423T145059
CREATED:20230606T001732Z
LAST-MODIFIED:20230606T194055Z
UID:10000247-1763028000-1763033400@interfaithwelcomecoalition.org
SUMMARY:IWC General Meeting
DESCRIPTION:[vc_row][vc_column][vc_column_text] \nThe IWC General meeting is held on the second Thursday of each month from 10 – 11:30 a.m. CST\n  \nFor zoom info please sign up to our mailing list or email sanantoniowelcome@gmail.com[/vc_column_text][/vc_column][/vc_row]
URL:https://interfaithwelcomecoalition.org/event/general-meeting-2-2/2025-11-13/
LOCATION:Zoom
CATEGORIES:IWC General Meeting
ATTACH;FMTTYPE=image/jpeg:https://eadn-wc04-5307158.nxedge.io/wp-content/uploads/2021/04/interfaith2-e1686011075150.jpeg
END:VEVENT
BEGIN:VEVENT
DTSTART;TZID=America/Chicago:20251103T200000
DTEND;TZID=America/Chicago:20251103T210000
DTSTAMP:20260423T145059
CREATED:20230607T030758Z
LAST-MODIFIED:20230607T212953Z
UID:10000404-1762200000-1762203600@interfaithwelcomecoalition.org
SUMMARY:IWC Advocacy Committee
DESCRIPTION:
URL:https://interfaithwelcomecoalition.org/event/iwc-advocacy-committee-2/2025-11-03/
LOCATION:Zoom
ATTACH;FMTTYPE=image/jpeg:https://eadn-wc04-5307158.nxedge.io/wp-content/uploads/2023/06/advocacy-e1686107156366.jpg
END:VEVENT
BEGIN:VEVENT
DTSTART;TZID=America/Chicago:20251024T100000
DTEND;TZID=America/Chicago:20251024T110000
DTSTAMP:20260423T145059
CREATED:20230607T033104Z
LAST-MODIFIED:20230607T034529Z
UID:10000707-1761300000-1761303600@interfaithwelcomecoalition.org
SUMMARY:Shelter Network Working Group - Fourth Friday
DESCRIPTION:
URL:https://interfaithwelcomecoalition.org/event/shelter-network-working-group-fourth-friday/2025-10-24/
LOCATION:Zoom
ATTACH;FMTTYPE=image/jpeg:https://eadn-wc04-5307158.nxedge.io/wp-content/uploads/2023/06/housing-e1686107639817.jpg
END:VEVENT
BEGIN:VEVENT
DTSTART;TZID=America/Chicago:20251010T100000
DTEND;TZID=America/Chicago:20251010T110000
DTSTAMP:20260423T145059
CREATED:20230607T033230Z
LAST-MODIFIED:20230607T034552Z
UID:10000767-1760090400-1760094000@interfaithwelcomecoalition.org
SUMMARY:Shelter Network Working Group - Second Friday
DESCRIPTION:
URL:https://interfaithwelcomecoalition.org/event/shelter-network-working-group-second-friday/2025-10-10/
LOCATION:Zoom
ATTACH;FMTTYPE=image/jpeg:https://eadn-wc04-5307158.nxedge.io/wp-content/uploads/2023/06/housing-e1686107639817.jpg
END:VEVENT
BEGIN:VEVENT
DTSTART;TZID=America/Chicago:20251009T100000
DTEND;TZID=America/Chicago:20251009T113000
DTSTAMP:20260423T145059
CREATED:20230606T001732Z
LAST-MODIFIED:20230606T194055Z
UID:10000246-1760004000-1760009400@interfaithwelcomecoalition.org
SUMMARY:IWC General Meeting
DESCRIPTION:[vc_row][vc_column][vc_column_text] \nThe IWC General meeting is held on the second Thursday of each month from 10 – 11:30 a.m. CST\n  \nFor zoom info please sign up to our mailing list or email sanantoniowelcome@gmail.com[/vc_column_text][/vc_column][/vc_row]
URL:https://interfaithwelcomecoalition.org/event/general-meeting-2-2/2025-10-09/
LOCATION:Zoom
CATEGORIES:IWC General Meeting
ATTACH;FMTTYPE=image/jpeg:https://eadn-wc04-5307158.nxedge.io/wp-content/uploads/2021/04/interfaith2-e1686011075150.jpeg
END:VEVENT
BEGIN:VEVENT
DTSTART;TZID=America/Chicago:20251006T200000
DTEND;TZID=America/Chicago:20251006T210000
DTSTAMP:20260423T145059
CREATED:20230607T030758Z
LAST-MODIFIED:20230607T212953Z
UID:10000403-1759780800-1759784400@interfaithwelcomecoalition.org
SUMMARY:IWC Advocacy Committee
DESCRIPTION:
URL:https://interfaithwelcomecoalition.org/event/iwc-advocacy-committee-2/2025-10-06/
LOCATION:Zoom
ATTACH;FMTTYPE=image/jpeg:https://eadn-wc04-5307158.nxedge.io/wp-content/uploads/2023/06/advocacy-e1686107156366.jpg
END:VEVENT
BEGIN:VEVENT
DTSTART;TZID=America/Chicago:20250926T100000
DTEND;TZID=America/Chicago:20250926T110000
DTSTAMP:20260423T145059
CREATED:20230607T033104Z
LAST-MODIFIED:20230607T034529Z
UID:10000706-1758880800-1758884400@interfaithwelcomecoalition.org
SUMMARY:Shelter Network Working Group - Fourth Friday
DESCRIPTION:
URL:https://interfaithwelcomecoalition.org/event/shelter-network-working-group-fourth-friday/2025-09-26/
LOCATION:Zoom
ATTACH;FMTTYPE=image/jpeg:https://eadn-wc04-5307158.nxedge.io/wp-content/uploads/2023/06/housing-e1686107639817.jpg
END:VEVENT
BEGIN:VEVENT
DTSTART;TZID=America/Chicago:20250912T100000
DTEND;TZID=America/Chicago:20250912T110000
DTSTAMP:20260423T145059
CREATED:20230607T033230Z
LAST-MODIFIED:20230607T034552Z
UID:10000766-1757671200-1757674800@interfaithwelcomecoalition.org
SUMMARY:Shelter Network Working Group - Second Friday
DESCRIPTION:
URL:https://interfaithwelcomecoalition.org/event/shelter-network-working-group-second-friday/2025-09-12/
LOCATION:Zoom
ATTACH;FMTTYPE=image/jpeg:https://eadn-wc04-5307158.nxedge.io/wp-content/uploads/2023/06/housing-e1686107639817.jpg
END:VEVENT
BEGIN:VEVENT
DTSTART;TZID=America/Chicago:20250911T100000
DTEND;TZID=America/Chicago:20250911T113000
DTSTAMP:20260423T145059
CREATED:20230606T001732Z
LAST-MODIFIED:20230606T194055Z
UID:10000245-1757584800-1757590200@interfaithwelcomecoalition.org
SUMMARY:IWC General Meeting
DESCRIPTION:[vc_row][vc_column][vc_column_text] \nThe IWC General meeting is held on the second Thursday of each month from 10 – 11:30 a.m. CST\n  \nFor zoom info please sign up to our mailing list or email sanantoniowelcome@gmail.com[/vc_column_text][/vc_column][/vc_row]
URL:https://interfaithwelcomecoalition.org/event/general-meeting-2-2/2025-09-11/
LOCATION:Zoom
CATEGORIES:IWC General Meeting
ATTACH;FMTTYPE=image/jpeg:https://eadn-wc04-5307158.nxedge.io/wp-content/uploads/2021/04/interfaith2-e1686011075150.jpeg
END:VEVENT
BEGIN:VEVENT
DTSTART;TZID=America/Chicago:20250901T200000
DTEND;TZID=America/Chicago:20250901T210000
DTSTAMP:20260423T145059
CREATED:20230607T030758Z
LAST-MODIFIED:20230607T212953Z
UID:10000402-1756756800-1756760400@interfaithwelcomecoalition.org
SUMMARY:IWC Advocacy Committee
DESCRIPTION:
URL:https://interfaithwelcomecoalition.org/event/iwc-advocacy-committee-2/2025-09-01/
LOCATION:Zoom
ATTACH;FMTTYPE=image/jpeg:https://eadn-wc04-5307158.nxedge.io/wp-content/uploads/2023/06/advocacy-e1686107156366.jpg
END:VEVENT
BEGIN:VEVENT
DTSTART;TZID=America/Chicago:20250822T100000
DTEND;TZID=America/Chicago:20250822T110000
DTSTAMP:20260423T145059
CREATED:20230607T033104Z
LAST-MODIFIED:20230607T034529Z
UID:10000705-1755856800-1755860400@interfaithwelcomecoalition.org
SUMMARY:Shelter Network Working Group - Fourth Friday
DESCRIPTION:
URL:https://interfaithwelcomecoalition.org/event/shelter-network-working-group-fourth-friday/2025-08-22/
LOCATION:Zoom
ATTACH;FMTTYPE=image/jpeg:https://eadn-wc04-5307158.nxedge.io/wp-content/uploads/2023/06/housing-e1686107639817.jpg
END:VEVENT
BEGIN:VEVENT
DTSTART;TZID=America/Chicago:20250814T100000
DTEND;TZID=America/Chicago:20250814T113000
DTSTAMP:20260423T145059
CREATED:20230606T001732Z
LAST-MODIFIED:20230606T194055Z
UID:10000244-1755165600-1755171000@interfaithwelcomecoalition.org
SUMMARY:IWC General Meeting
DESCRIPTION:[vc_row][vc_column][vc_column_text] \nThe IWC General meeting is held on the second Thursday of each month from 10 – 11:30 a.m. CST\n  \nFor zoom info please sign up to our mailing list or email sanantoniowelcome@gmail.com[/vc_column_text][/vc_column][/vc_row]
URL:https://interfaithwelcomecoalition.org/event/general-meeting-2-2/2025-08-14/
LOCATION:Zoom
CATEGORIES:IWC General Meeting
ATTACH;FMTTYPE=image/jpeg:https://eadn-wc04-5307158.nxedge.io/wp-content/uploads/2021/04/interfaith2-e1686011075150.jpeg
END:VEVENT
BEGIN:VEVENT
DTSTART;TZID=America/Chicago:20250808T100000
DTEND;TZID=America/Chicago:20250808T110000
DTSTAMP:20260423T145059
CREATED:20230607T033230Z
LAST-MODIFIED:20230607T034552Z
UID:10000765-1754647200-1754650800@interfaithwelcomecoalition.org
SUMMARY:Shelter Network Working Group - Second Friday
DESCRIPTION:
URL:https://interfaithwelcomecoalition.org/event/shelter-network-working-group-second-friday/2025-08-08/
LOCATION:Zoom
ATTACH;FMTTYPE=image/jpeg:https://eadn-wc04-5307158.nxedge.io/wp-content/uploads/2023/06/housing-e1686107639817.jpg
END:VEVENT
BEGIN:VEVENT
DTSTART;TZID=America/Chicago:20250804T200000
DTEND;TZID=America/Chicago:20250804T210000
DTSTAMP:20260423T145059
CREATED:20230607T030758Z
LAST-MODIFIED:20230607T212953Z
UID:10000401-1754337600-1754341200@interfaithwelcomecoalition.org
SUMMARY:IWC Advocacy Committee
DESCRIPTION:
URL:https://interfaithwelcomecoalition.org/event/iwc-advocacy-committee-2/2025-08-04/
LOCATION:Zoom
ATTACH;FMTTYPE=image/jpeg:https://eadn-wc04-5307158.nxedge.io/wp-content/uploads/2023/06/advocacy-e1686107156366.jpg
END:VEVENT
BEGIN:VEVENT
DTSTART;TZID=America/Chicago:20250725T100000
DTEND;TZID=America/Chicago:20250725T110000
DTSTAMP:20260423T145059
CREATED:20230607T033104Z
LAST-MODIFIED:20230607T034529Z
UID:10000704-1753437600-1753441200@interfaithwelcomecoalition.org
SUMMARY:Shelter Network Working Group - Fourth Friday
DESCRIPTION:
URL:https://interfaithwelcomecoalition.org/event/shelter-network-working-group-fourth-friday/2025-07-25/
LOCATION:Zoom
ATTACH;FMTTYPE=image/jpeg:https://eadn-wc04-5307158.nxedge.io/wp-content/uploads/2023/06/housing-e1686107639817.jpg
END:VEVENT
BEGIN:VEVENT
DTSTART;TZID=America/Chicago:20250715T143000
DTEND;TZID=America/Chicago:20250715T143000
DTSTAMP:20260423T145059
CREATED:20230608T162848Z
LAST-MODIFIED:20230608T162849Z
UID:10000052-1752589800-1752589800@interfaithwelcomecoalition.org
SUMMARY:Texas Border Collaboration Network Monthly Webinar
DESCRIPTION:
URL:https://interfaithwelcomecoalition.org/event/14549-2/2025-07-15/
LOCATION:Zoom
ATTACH;FMTTYPE=image/png:https://eadn-wc04-5307158.nxedge.io/wp-content/uploads/2021/07/image001-e1686080644347.png
END:VEVENT
BEGIN:VEVENT
DTSTART;TZID=America/Chicago:20250711T100000
DTEND;TZID=America/Chicago:20250711T110000
DTSTAMP:20260423T145059
CREATED:20230607T033230Z
LAST-MODIFIED:20230607T034552Z
UID:10000764-1752228000-1752231600@interfaithwelcomecoalition.org
SUMMARY:Shelter Network Working Group - Second Friday
DESCRIPTION:
URL:https://interfaithwelcomecoalition.org/event/shelter-network-working-group-second-friday/2025-07-11/
LOCATION:Zoom
ATTACH;FMTTYPE=image/jpeg:https://eadn-wc04-5307158.nxedge.io/wp-content/uploads/2023/06/housing-e1686107639817.jpg
END:VEVENT
BEGIN:VEVENT
DTSTART;TZID=America/Chicago:20250710T100000
DTEND;TZID=America/Chicago:20250710T113000
DTSTAMP:20260423T145059
CREATED:20230606T001732Z
LAST-MODIFIED:20230606T194055Z
UID:10000243-1752141600-1752147000@interfaithwelcomecoalition.org
SUMMARY:IWC General Meeting
DESCRIPTION:[vc_row][vc_column][vc_column_text] \nThe IWC General meeting is held on the second Thursday of each month from 10 – 11:30 a.m. CST\n  \nFor zoom info please sign up to our mailing list or email sanantoniowelcome@gmail.com[/vc_column_text][/vc_column][/vc_row]
URL:https://interfaithwelcomecoalition.org/event/general-meeting-2-2/2025-07-10/
LOCATION:Zoom
CATEGORIES:IWC General Meeting
ATTACH;FMTTYPE=image/jpeg:https://eadn-wc04-5307158.nxedge.io/wp-content/uploads/2021/04/interfaith2-e1686011075150.jpeg
END:VEVENT
BEGIN:VEVENT
DTSTART;TZID=America/Chicago:20250707T200000
DTEND;TZID=America/Chicago:20250707T210000
DTSTAMP:20260423T145059
CREATED:20230607T030758Z
LAST-MODIFIED:20230607T212953Z
UID:10000400-1751918400-1751922000@interfaithwelcomecoalition.org
SUMMARY:IWC Advocacy Committee
DESCRIPTION:
URL:https://interfaithwelcomecoalition.org/event/iwc-advocacy-committee-2/2025-07-07/
LOCATION:Zoom
ATTACH;FMTTYPE=image/jpeg:https://eadn-wc04-5307158.nxedge.io/wp-content/uploads/2023/06/advocacy-e1686107156366.jpg
END:VEVENT
END:VCALENDAR