BEGIN:VCALENDAR
VERSION:2.0
PRODID:-//Interfaith Welcome Coalition - ECPv6.15.20//NONSGML v1.0//EN
CALSCALE:GREGORIAN
METHOD:PUBLISH
X-WR-CALNAME:Interfaith Welcome Coalition
X-ORIGINAL-URL:https://interfaithwelcomecoalition.org
X-WR-CALDESC:Events for Interfaith Welcome Coalition
REFRESH-INTERVAL;VALUE=DURATION:PT1H
X-Robots-Tag:noindex
X-PUBLISHED-TTL:PT1H
BEGIN:VTIMEZONE
TZID:America/Chicago
BEGIN:DAYLIGHT
TZOFFSETFROM:-0600
TZOFFSETTO:-0500
TZNAME:CDT
DTSTART:20250309T080000
END:DAYLIGHT
BEGIN:STANDARD
TZOFFSETFROM:-0500
TZOFFSETTO:-0600
TZNAME:CST
DTSTART:20251102T070000
END:STANDARD
BEGIN:DAYLIGHT
TZOFFSETFROM:-0600
TZOFFSETTO:-0500
TZNAME:CDT
DTSTART:20260308T080000
END:DAYLIGHT
BEGIN:STANDARD
TZOFFSETFROM:-0500
TZOFFSETTO:-0600
TZNAME:CST
DTSTART:20261101T070000
END:STANDARD
BEGIN:DAYLIGHT
TZOFFSETFROM:-0600
TZOFFSETTO:-0500
TZNAME:CDT
DTSTART:20270314T080000
END:DAYLIGHT
BEGIN:STANDARD
TZOFFSETFROM:-0500
TZOFFSETTO:-0600
TZNAME:CST
DTSTART:20271107T070000
END:STANDARD
END:VTIMEZONE
BEGIN:VEVENT
DTSTART;TZID=America/Chicago:20260424T100000
DTEND;TZID=America/Chicago:20260424T110000
DTSTAMP:20260423T113656
CREATED:20230607T033104Z
LAST-MODIFIED:20230607T034529Z
UID:10000713-1777024800-1777028400@interfaithwelcomecoalition.org
SUMMARY:Shelter Network Working Group - Fourth Friday
DESCRIPTION:
URL:https://interfaithwelcomecoalition.org/event/shelter-network-working-group-fourth-friday/2026-04-24/
LOCATION:Zoom
ATTACH;FMTTYPE=image/jpeg:https://eadn-wc04-5307158.nxedge.io/wp-content/uploads/2023/06/housing-e1686107639817.jpg
END:VEVENT
BEGIN:VEVENT
DTSTART;TZID=America/Chicago:20260504T200000
DTEND;TZID=America/Chicago:20260504T210000
DTSTAMP:20260423T113656
CREATED:20230607T030758Z
LAST-MODIFIED:20230607T212953Z
UID:10000410-1777924800-1777928400@interfaithwelcomecoalition.org
SUMMARY:IWC Advocacy Committee
DESCRIPTION:
URL:https://interfaithwelcomecoalition.org/event/iwc-advocacy-committee-2/2026-05-04/
LOCATION:Zoom
ATTACH;FMTTYPE=image/jpeg:https://eadn-wc04-5307158.nxedge.io/wp-content/uploads/2023/06/advocacy-e1686107156366.jpg
END:VEVENT
BEGIN:VEVENT
DTSTART;TZID=America/Chicago:20260508T100000
DTEND;TZID=America/Chicago:20260508T110000
DTSTAMP:20260423T113656
CREATED:20230607T033230Z
LAST-MODIFIED:20230607T034552Z
UID:10000774-1778234400-1778238000@interfaithwelcomecoalition.org
SUMMARY:Shelter Network Working Group - Second Friday
DESCRIPTION:
URL:https://interfaithwelcomecoalition.org/event/shelter-network-working-group-second-friday/2026-05-08/
LOCATION:Zoom
ATTACH;FMTTYPE=image/jpeg:https://eadn-wc04-5307158.nxedge.io/wp-content/uploads/2023/06/housing-e1686107639817.jpg
END:VEVENT
BEGIN:VEVENT
DTSTART;TZID=America/Chicago:20260514T100000
DTEND;TZID=America/Chicago:20260514T113000
DTSTAMP:20260423T113656
CREATED:20230606T001732Z
LAST-MODIFIED:20230606T194055Z
UID:10000253-1778752800-1778758200@interfaithwelcomecoalition.org
SUMMARY:IWC General Meeting
DESCRIPTION:[vc_row][vc_column][vc_column_text] \nThe IWC General meeting is held on the second Thursday of each month from 10 – 11:30 a.m. CST\n  \nFor zoom info please sign up to our mailing list or email sanantoniowelcome@gmail.com[/vc_column_text][/vc_column][/vc_row]
URL:https://interfaithwelcomecoalition.org/event/general-meeting-2-2/2026-05-14/
LOCATION:Zoom
CATEGORIES:IWC General Meeting
ATTACH;FMTTYPE=image/jpeg:https://eadn-wc04-5307158.nxedge.io/wp-content/uploads/2021/04/interfaith2-e1686011075150.jpeg
END:VEVENT
BEGIN:VEVENT
DTSTART;TZID=America/Chicago:20260522T100000
DTEND;TZID=America/Chicago:20260522T110000
DTSTAMP:20260423T113656
CREATED:20230607T033104Z
LAST-MODIFIED:20230607T034529Z
UID:10000714-1779444000-1779447600@interfaithwelcomecoalition.org
SUMMARY:Shelter Network Working Group - Fourth Friday
DESCRIPTION:
URL:https://interfaithwelcomecoalition.org/event/shelter-network-working-group-fourth-friday/2026-05-22/
LOCATION:Zoom
ATTACH;FMTTYPE=image/jpeg:https://eadn-wc04-5307158.nxedge.io/wp-content/uploads/2023/06/housing-e1686107639817.jpg
END:VEVENT
BEGIN:VEVENT
DTSTART;TZID=America/Chicago:20260601T200000
DTEND;TZID=America/Chicago:20260601T210000
DTSTAMP:20260423T113656
CREATED:20230607T030758Z
LAST-MODIFIED:20230607T212953Z
UID:10000411-1780344000-1780347600@interfaithwelcomecoalition.org
SUMMARY:IWC Advocacy Committee
DESCRIPTION:
URL:https://interfaithwelcomecoalition.org/event/iwc-advocacy-committee-2/2026-06-01/
LOCATION:Zoom
ATTACH;FMTTYPE=image/jpeg:https://eadn-wc04-5307158.nxedge.io/wp-content/uploads/2023/06/advocacy-e1686107156366.jpg
END:VEVENT
BEGIN:VEVENT
DTSTART;TZID=America/Chicago:20260611T100000
DTEND;TZID=America/Chicago:20260611T113000
DTSTAMP:20260423T113656
CREATED:20230606T001732Z
LAST-MODIFIED:20230606T194055Z
UID:10000254-1781172000-1781177400@interfaithwelcomecoalition.org
SUMMARY:IWC General Meeting
DESCRIPTION:[vc_row][vc_column][vc_column_text] \nThe IWC General meeting is held on the second Thursday of each month from 10 – 11:30 a.m. CST\n  \nFor zoom info please sign up to our mailing list or email sanantoniowelcome@gmail.com[/vc_column_text][/vc_column][/vc_row]
URL:https://interfaithwelcomecoalition.org/event/general-meeting-2-2/2026-06-11/
LOCATION:Zoom
CATEGORIES:IWC General Meeting
ATTACH;FMTTYPE=image/jpeg:https://eadn-wc04-5307158.nxedge.io/wp-content/uploads/2021/04/interfaith2-e1686011075150.jpeg
END:VEVENT
BEGIN:VEVENT
DTSTART;TZID=America/Chicago:20260612T100000
DTEND;TZID=America/Chicago:20260612T110000
DTSTAMP:20260423T113656
CREATED:20230607T033230Z
LAST-MODIFIED:20230607T034552Z
UID:10000775-1781258400-1781262000@interfaithwelcomecoalition.org
SUMMARY:Shelter Network Working Group - Second Friday
DESCRIPTION:
URL:https://interfaithwelcomecoalition.org/event/shelter-network-working-group-second-friday/2026-06-12/
LOCATION:Zoom
ATTACH;FMTTYPE=image/jpeg:https://eadn-wc04-5307158.nxedge.io/wp-content/uploads/2023/06/housing-e1686107639817.jpg
END:VEVENT
BEGIN:VEVENT
DTSTART;TZID=America/Chicago:20260626T100000
DTEND;TZID=America/Chicago:20260626T110000
DTSTAMP:20260423T113656
CREATED:20230607T033104Z
LAST-MODIFIED:20230607T034529Z
UID:10000715-1782468000-1782471600@interfaithwelcomecoalition.org
SUMMARY:Shelter Network Working Group - Fourth Friday
DESCRIPTION:
URL:https://interfaithwelcomecoalition.org/event/shelter-network-working-group-fourth-friday/2026-06-26/
LOCATION:Zoom
ATTACH;FMTTYPE=image/jpeg:https://eadn-wc04-5307158.nxedge.io/wp-content/uploads/2023/06/housing-e1686107639817.jpg
END:VEVENT
BEGIN:VEVENT
DTSTART;TZID=America/Chicago:20260706T200000
DTEND;TZID=America/Chicago:20260706T210000
DTSTAMP:20260423T113656
CREATED:20230607T030758Z
LAST-MODIFIED:20230607T212953Z
UID:10000412-1783368000-1783371600@interfaithwelcomecoalition.org
SUMMARY:IWC Advocacy Committee
DESCRIPTION:
URL:https://interfaithwelcomecoalition.org/event/iwc-advocacy-committee-2/2026-07-06/
LOCATION:Zoom
ATTACH;FMTTYPE=image/jpeg:https://eadn-wc04-5307158.nxedge.io/wp-content/uploads/2023/06/advocacy-e1686107156366.jpg
END:VEVENT
BEGIN:VEVENT
DTSTART;TZID=America/Chicago:20260709T100000
DTEND;TZID=America/Chicago:20260709T113000
DTSTAMP:20260423T113656
CREATED:20230606T001732Z
LAST-MODIFIED:20230606T194055Z
UID:10000255-1783591200-1783596600@interfaithwelcomecoalition.org
SUMMARY:IWC General Meeting
DESCRIPTION:[vc_row][vc_column][vc_column_text] \nThe IWC General meeting is held on the second Thursday of each month from 10 – 11:30 a.m. CST\n  \nFor zoom info please sign up to our mailing list or email sanantoniowelcome@gmail.com[/vc_column_text][/vc_column][/vc_row]
URL:https://interfaithwelcomecoalition.org/event/general-meeting-2-2/2026-07-09/
LOCATION:Zoom
CATEGORIES:IWC General Meeting
ATTACH;FMTTYPE=image/jpeg:https://eadn-wc04-5307158.nxedge.io/wp-content/uploads/2021/04/interfaith2-e1686011075150.jpeg
END:VEVENT
BEGIN:VEVENT
DTSTART;TZID=America/Chicago:20260710T100000
DTEND;TZID=America/Chicago:20260710T110000
DTSTAMP:20260423T113656
CREATED:20230607T033230Z
LAST-MODIFIED:20230607T034552Z
UID:10000776-1783677600-1783681200@interfaithwelcomecoalition.org
SUMMARY:Shelter Network Working Group - Second Friday
DESCRIPTION:
URL:https://interfaithwelcomecoalition.org/event/shelter-network-working-group-second-friday/2026-07-10/
LOCATION:Zoom
ATTACH;FMTTYPE=image/jpeg:https://eadn-wc04-5307158.nxedge.io/wp-content/uploads/2023/06/housing-e1686107639817.jpg
END:VEVENT
BEGIN:VEVENT
DTSTART;TZID=America/Chicago:20260724T100000
DTEND;TZID=America/Chicago:20260724T110000
DTSTAMP:20260423T113656
CREATED:20230607T033104Z
LAST-MODIFIED:20230607T034529Z
UID:10000716-1784887200-1784890800@interfaithwelcomecoalition.org
SUMMARY:Shelter Network Working Group - Fourth Friday
DESCRIPTION:
URL:https://interfaithwelcomecoalition.org/event/shelter-network-working-group-fourth-friday/2026-07-24/
LOCATION:Zoom
ATTACH;FMTTYPE=image/jpeg:https://eadn-wc04-5307158.nxedge.io/wp-content/uploads/2023/06/housing-e1686107639817.jpg
END:VEVENT
BEGIN:VEVENT
DTSTART;TZID=America/Chicago:20260803T200000
DTEND;TZID=America/Chicago:20260803T210000
DTSTAMP:20260423T113656
CREATED:20230607T030758Z
LAST-MODIFIED:20230607T212953Z
UID:10000413-1785787200-1785790800@interfaithwelcomecoalition.org
SUMMARY:IWC Advocacy Committee
DESCRIPTION:
URL:https://interfaithwelcomecoalition.org/event/iwc-advocacy-committee-2/2026-08-03/
LOCATION:Zoom
ATTACH;FMTTYPE=image/jpeg:https://eadn-wc04-5307158.nxedge.io/wp-content/uploads/2023/06/advocacy-e1686107156366.jpg
END:VEVENT
BEGIN:VEVENT
DTSTART;TZID=America/Chicago:20260813T100000
DTEND;TZID=America/Chicago:20260813T113000
DTSTAMP:20260423T113656
CREATED:20230606T001732Z
LAST-MODIFIED:20230606T194055Z
UID:10000256-1786615200-1786620600@interfaithwelcomecoalition.org
SUMMARY:IWC General Meeting
DESCRIPTION:[vc_row][vc_column][vc_column_text] \nThe IWC General meeting is held on the second Thursday of each month from 10 – 11:30 a.m. CST\n  \nFor zoom info please sign up to our mailing list or email sanantoniowelcome@gmail.com[/vc_column_text][/vc_column][/vc_row]
URL:https://interfaithwelcomecoalition.org/event/general-meeting-2-2/2026-08-13/
LOCATION:Zoom
CATEGORIES:IWC General Meeting
ATTACH;FMTTYPE=image/jpeg:https://eadn-wc04-5307158.nxedge.io/wp-content/uploads/2021/04/interfaith2-e1686011075150.jpeg
END:VEVENT
BEGIN:VEVENT
DTSTART;TZID=America/Chicago:20260814T100000
DTEND;TZID=America/Chicago:20260814T110000
DTSTAMP:20260423T113656
CREATED:20230607T033230Z
LAST-MODIFIED:20230607T034552Z
UID:10000777-1786701600-1786705200@interfaithwelcomecoalition.org
SUMMARY:Shelter Network Working Group - Second Friday
DESCRIPTION:
URL:https://interfaithwelcomecoalition.org/event/shelter-network-working-group-second-friday/2026-08-14/
LOCATION:Zoom
ATTACH;FMTTYPE=image/jpeg:https://eadn-wc04-5307158.nxedge.io/wp-content/uploads/2023/06/housing-e1686107639817.jpg
END:VEVENT
BEGIN:VEVENT
DTSTART;TZID=America/Chicago:20260828T100000
DTEND;TZID=America/Chicago:20260828T110000
DTSTAMP:20260423T113656
CREATED:20230607T033104Z
LAST-MODIFIED:20230607T034529Z
UID:10000717-1787911200-1787914800@interfaithwelcomecoalition.org
SUMMARY:Shelter Network Working Group - Fourth Friday
DESCRIPTION:
URL:https://interfaithwelcomecoalition.org/event/shelter-network-working-group-fourth-friday/2026-08-28/
LOCATION:Zoom
ATTACH;FMTTYPE=image/jpeg:https://eadn-wc04-5307158.nxedge.io/wp-content/uploads/2023/06/housing-e1686107639817.jpg
END:VEVENT
BEGIN:VEVENT
DTSTART;TZID=America/Chicago:20260907T200000
DTEND;TZID=America/Chicago:20260907T210000
DTSTAMP:20260423T113656
CREATED:20230607T030758Z
LAST-MODIFIED:20230607T212953Z
UID:10000414-1788811200-1788814800@interfaithwelcomecoalition.org
SUMMARY:IWC Advocacy Committee
DESCRIPTION:
URL:https://interfaithwelcomecoalition.org/event/iwc-advocacy-committee-2/2026-09-07/
LOCATION:Zoom
ATTACH;FMTTYPE=image/jpeg:https://eadn-wc04-5307158.nxedge.io/wp-content/uploads/2023/06/advocacy-e1686107156366.jpg
END:VEVENT
BEGIN:VEVENT
DTSTART;TZID=America/Chicago:20260910T100000
DTEND;TZID=America/Chicago:20260910T113000
DTSTAMP:20260423T113656
CREATED:20230606T001732Z
LAST-MODIFIED:20230606T194055Z
UID:10000257-1789034400-1789039800@interfaithwelcomecoalition.org
SUMMARY:IWC General Meeting
DESCRIPTION:[vc_row][vc_column][vc_column_text] \nThe IWC General meeting is held on the second Thursday of each month from 10 – 11:30 a.m. CST\n  \nFor zoom info please sign up to our mailing list or email sanantoniowelcome@gmail.com[/vc_column_text][/vc_column][/vc_row]
URL:https://interfaithwelcomecoalition.org/event/general-meeting-2-2/2026-09-10/
LOCATION:Zoom
CATEGORIES:IWC General Meeting
ATTACH;FMTTYPE=image/jpeg:https://eadn-wc04-5307158.nxedge.io/wp-content/uploads/2021/04/interfaith2-e1686011075150.jpeg
END:VEVENT
BEGIN:VEVENT
DTSTART;TZID=America/Chicago:20260911T100000
DTEND;TZID=America/Chicago:20260911T110000
DTSTAMP:20260423T113656
CREATED:20230607T033230Z
LAST-MODIFIED:20230607T034552Z
UID:10000778-1789120800-1789124400@interfaithwelcomecoalition.org
SUMMARY:Shelter Network Working Group - Second Friday
DESCRIPTION:
URL:https://interfaithwelcomecoalition.org/event/shelter-network-working-group-second-friday/2026-09-11/
LOCATION:Zoom
ATTACH;FMTTYPE=image/jpeg:https://eadn-wc04-5307158.nxedge.io/wp-content/uploads/2023/06/housing-e1686107639817.jpg
END:VEVENT
BEGIN:VEVENT
DTSTART;TZID=America/Chicago:20260925T100000
DTEND;TZID=America/Chicago:20260925T110000
DTSTAMP:20260423T113656
CREATED:20230607T033104Z
LAST-MODIFIED:20230607T034529Z
UID:10000718-1790330400-1790334000@interfaithwelcomecoalition.org
SUMMARY:Shelter Network Working Group - Fourth Friday
DESCRIPTION:
URL:https://interfaithwelcomecoalition.org/event/shelter-network-working-group-fourth-friday/2026-09-25/
LOCATION:Zoom
ATTACH;FMTTYPE=image/jpeg:https://eadn-wc04-5307158.nxedge.io/wp-content/uploads/2023/06/housing-e1686107639817.jpg
END:VEVENT
BEGIN:VEVENT
DTSTART;TZID=America/Chicago:20261005T200000
DTEND;TZID=America/Chicago:20261005T210000
DTSTAMP:20260423T113656
CREATED:20230607T030758Z
LAST-MODIFIED:20230607T212953Z
UID:10000415-1791230400-1791234000@interfaithwelcomecoalition.org
SUMMARY:IWC Advocacy Committee
DESCRIPTION:
URL:https://interfaithwelcomecoalition.org/event/iwc-advocacy-committee-2/2026-10-05/
LOCATION:Zoom
ATTACH;FMTTYPE=image/jpeg:https://eadn-wc04-5307158.nxedge.io/wp-content/uploads/2023/06/advocacy-e1686107156366.jpg
END:VEVENT
BEGIN:VEVENT
DTSTART;TZID=America/Chicago:20261008T100000
DTEND;TZID=America/Chicago:20261008T113000
DTSTAMP:20260423T113656
CREATED:20230606T001732Z
LAST-MODIFIED:20230606T194055Z
UID:10000258-1791453600-1791459000@interfaithwelcomecoalition.org
SUMMARY:IWC General Meeting
DESCRIPTION:[vc_row][vc_column][vc_column_text] \nThe IWC General meeting is held on the second Thursday of each month from 10 – 11:30 a.m. CST\n  \nFor zoom info please sign up to our mailing list or email sanantoniowelcome@gmail.com[/vc_column_text][/vc_column][/vc_row]
URL:https://interfaithwelcomecoalition.org/event/general-meeting-2-2/2026-10-08/
LOCATION:Zoom
CATEGORIES:IWC General Meeting
ATTACH;FMTTYPE=image/jpeg:https://eadn-wc04-5307158.nxedge.io/wp-content/uploads/2021/04/interfaith2-e1686011075150.jpeg
END:VEVENT
BEGIN:VEVENT
DTSTART;TZID=America/Chicago:20261009T100000
DTEND;TZID=America/Chicago:20261009T110000
DTSTAMP:20260423T113656
CREATED:20230607T033230Z
LAST-MODIFIED:20230607T034552Z
UID:10000779-1791540000-1791543600@interfaithwelcomecoalition.org
SUMMARY:Shelter Network Working Group - Second Friday
DESCRIPTION:
URL:https://interfaithwelcomecoalition.org/event/shelter-network-working-group-second-friday/2026-10-09/
LOCATION:Zoom
ATTACH;FMTTYPE=image/jpeg:https://eadn-wc04-5307158.nxedge.io/wp-content/uploads/2023/06/housing-e1686107639817.jpg
END:VEVENT
BEGIN:VEVENT
DTSTART;TZID=America/Chicago:20261023T100000
DTEND;TZID=America/Chicago:20261023T110000
DTSTAMP:20260423T113656
CREATED:20230607T033104Z
LAST-MODIFIED:20230607T034529Z
UID:10000719-1792749600-1792753200@interfaithwelcomecoalition.org
SUMMARY:Shelter Network Working Group - Fourth Friday
DESCRIPTION:
URL:https://interfaithwelcomecoalition.org/event/shelter-network-working-group-fourth-friday/2026-10-23/
LOCATION:Zoom
ATTACH;FMTTYPE=image/jpeg:https://eadn-wc04-5307158.nxedge.io/wp-content/uploads/2023/06/housing-e1686107639817.jpg
END:VEVENT
BEGIN:VEVENT
DTSTART;TZID=America/Chicago:20261102T200000
DTEND;TZID=America/Chicago:20261102T210000
DTSTAMP:20260423T113656
CREATED:20230607T030758Z
LAST-MODIFIED:20230607T212953Z
UID:10000416-1793649600-1793653200@interfaithwelcomecoalition.org
SUMMARY:IWC Advocacy Committee
DESCRIPTION:
URL:https://interfaithwelcomecoalition.org/event/iwc-advocacy-committee-2/2026-11-02/
LOCATION:Zoom
ATTACH;FMTTYPE=image/jpeg:https://eadn-wc04-5307158.nxedge.io/wp-content/uploads/2023/06/advocacy-e1686107156366.jpg
END:VEVENT
BEGIN:VEVENT
DTSTART;TZID=America/Chicago:20261112T100000
DTEND;TZID=America/Chicago:20261112T113000
DTSTAMP:20260423T113656
CREATED:20230606T001732Z
LAST-MODIFIED:20230606T194055Z
UID:10000259-1794477600-1794483000@interfaithwelcomecoalition.org
SUMMARY:IWC General Meeting
DESCRIPTION:[vc_row][vc_column][vc_column_text] \nThe IWC General meeting is held on the second Thursday of each month from 10 – 11:30 a.m. CST\n  \nFor zoom info please sign up to our mailing list or email sanantoniowelcome@gmail.com[/vc_column_text][/vc_column][/vc_row]
URL:https://interfaithwelcomecoalition.org/event/general-meeting-2-2/2026-11-12/
LOCATION:Zoom
CATEGORIES:IWC General Meeting
ATTACH;FMTTYPE=image/jpeg:https://eadn-wc04-5307158.nxedge.io/wp-content/uploads/2021/04/interfaith2-e1686011075150.jpeg
END:VEVENT
BEGIN:VEVENT
DTSTART;TZID=America/Chicago:20261113T100000
DTEND;TZID=America/Chicago:20261113T110000
DTSTAMP:20260423T113656
CREATED:20230607T033230Z
LAST-MODIFIED:20230607T034552Z
UID:10000780-1794564000-1794567600@interfaithwelcomecoalition.org
SUMMARY:Shelter Network Working Group - Second Friday
DESCRIPTION:
URL:https://interfaithwelcomecoalition.org/event/shelter-network-working-group-second-friday/2026-11-13/
LOCATION:Zoom
ATTACH;FMTTYPE=image/jpeg:https://eadn-wc04-5307158.nxedge.io/wp-content/uploads/2023/06/housing-e1686107639817.jpg
END:VEVENT
BEGIN:VEVENT
DTSTART;TZID=America/Chicago:20261127T100000
DTEND;TZID=America/Chicago:20261127T110000
DTSTAMP:20260423T113656
CREATED:20230607T033104Z
LAST-MODIFIED:20230607T034529Z
UID:10000720-1795773600-1795777200@interfaithwelcomecoalition.org
SUMMARY:Shelter Network Working Group - Fourth Friday
DESCRIPTION:
URL:https://interfaithwelcomecoalition.org/event/shelter-network-working-group-fourth-friday/2026-11-27/
LOCATION:Zoom
ATTACH;FMTTYPE=image/jpeg:https://eadn-wc04-5307158.nxedge.io/wp-content/uploads/2023/06/housing-e1686107639817.jpg
END:VEVENT
BEGIN:VEVENT
DTSTART;TZID=America/Chicago:20261207T200000
DTEND;TZID=America/Chicago:20261207T210000
DTSTAMP:20260423T113656
CREATED:20230607T030758Z
LAST-MODIFIED:20230607T212953Z
UID:10000417-1796673600-1796677200@interfaithwelcomecoalition.org
SUMMARY:IWC Advocacy Committee
DESCRIPTION:
URL:https://interfaithwelcomecoalition.org/event/iwc-advocacy-committee-2/2026-12-07/
LOCATION:Zoom
ATTACH;FMTTYPE=image/jpeg:https://eadn-wc04-5307158.nxedge.io/wp-content/uploads/2023/06/advocacy-e1686107156366.jpg
END:VEVENT
END:VCALENDAR