BEGIN:VCALENDAR
VERSION:2.0
PRODID:-//Interfaith Welcome Coalition - ECPv6.15.20//NONSGML v1.0//EN
CALSCALE:GREGORIAN
METHOD:PUBLISH
X-WR-CALNAME:Interfaith Welcome Coalition
X-ORIGINAL-URL:https://interfaithwelcomecoalition.org
X-WR-CALDESC:Events for Interfaith Welcome Coalition
REFRESH-INTERVAL;VALUE=DURATION:PT1H
X-Robots-Tag:noindex
X-PUBLISHED-TTL:PT1H
BEGIN:VTIMEZONE
TZID:America/Chicago
BEGIN:DAYLIGHT
TZOFFSETFROM:-0600
TZOFFSETTO:-0500
TZNAME:CDT
DTSTART:20250309T080000
END:DAYLIGHT
BEGIN:STANDARD
TZOFFSETFROM:-0500
TZOFFSETTO:-0600
TZNAME:CST
DTSTART:20251102T070000
END:STANDARD
BEGIN:DAYLIGHT
TZOFFSETFROM:-0600
TZOFFSETTO:-0500
TZNAME:CDT
DTSTART:20260308T080000
END:DAYLIGHT
BEGIN:STANDARD
TZOFFSETFROM:-0500
TZOFFSETTO:-0600
TZNAME:CST
DTSTART:20261101T070000
END:STANDARD
BEGIN:DAYLIGHT
TZOFFSETFROM:-0600
TZOFFSETTO:-0500
TZNAME:CDT
DTSTART:20270314T080000
END:DAYLIGHT
BEGIN:STANDARD
TZOFFSETFROM:-0500
TZOFFSETTO:-0600
TZNAME:CST
DTSTART:20271107T070000
END:STANDARD
BEGIN:DAYLIGHT
TZOFFSETFROM:-0600
TZOFFSETTO:-0500
TZNAME:CDT
DTSTART:20280312T080000
END:DAYLIGHT
BEGIN:STANDARD
TZOFFSETFROM:-0500
TZOFFSETTO:-0600
TZNAME:CST
DTSTART:20281105T070000
END:STANDARD
BEGIN:DAYLIGHT
TZOFFSETFROM:-0600
TZOFFSETTO:-0500
TZNAME:CDT
DTSTART:20290311T080000
END:DAYLIGHT
BEGIN:STANDARD
TZOFFSETFROM:-0500
TZOFFSETTO:-0600
TZNAME:CST
DTSTART:20291104T070000
END:STANDARD
END:VTIMEZONE
BEGIN:VEVENT
DTSTART;TZID=America/Chicago:20260515T103000
DTEND;TZID=America/Chicago:20260515T113000
DTSTAMP:20260423T142938
CREATED:20230702T190947Z
LAST-MODIFIED:20230702T193727Z
UID:10000833-1778841000-1778844600@interfaithwelcomecoalition.org
SUMMARY:City of San Antonio Immigration Liaison Stakeholders Meeting
DESCRIPTION:
URL:https://interfaithwelcomecoalition.org/event/city-of-san-antonio-immigration-liaison-stakeholders-meeting/2026-05-15/
ATTACH;FMTTYPE=image/jpeg:https://eadn-wc04-5307158.nxedge.io/wp-content/uploads/2023/07/san-antonio-logo.jpg
END:VEVENT
BEGIN:VEVENT
DTSTART;TZID=America/Chicago:20260619T103000
DTEND;TZID=America/Chicago:20260619T113000
DTSTAMP:20260423T142938
CREATED:20230702T190947Z
LAST-MODIFIED:20230702T193727Z
UID:10000834-1781865000-1781868600@interfaithwelcomecoalition.org
SUMMARY:City of San Antonio Immigration Liaison Stakeholders Meeting
DESCRIPTION:
URL:https://interfaithwelcomecoalition.org/event/city-of-san-antonio-immigration-liaison-stakeholders-meeting/2026-06-19/
ATTACH;FMTTYPE=image/jpeg:https://eadn-wc04-5307158.nxedge.io/wp-content/uploads/2023/07/san-antonio-logo.jpg
END:VEVENT
BEGIN:VEVENT
DTSTART;TZID=America/Chicago:20260717T103000
DTEND;TZID=America/Chicago:20260717T113000
DTSTAMP:20260423T142938
CREATED:20230702T190947Z
LAST-MODIFIED:20230702T193727Z
UID:10000835-1784284200-1784287800@interfaithwelcomecoalition.org
SUMMARY:City of San Antonio Immigration Liaison Stakeholders Meeting
DESCRIPTION:
URL:https://interfaithwelcomecoalition.org/event/city-of-san-antonio-immigration-liaison-stakeholders-meeting/2026-07-17/
ATTACH;FMTTYPE=image/jpeg:https://eadn-wc04-5307158.nxedge.io/wp-content/uploads/2023/07/san-antonio-logo.jpg
END:VEVENT
BEGIN:VEVENT
DTSTART;TZID=America/Chicago:20260821T103000
DTEND;TZID=America/Chicago:20260821T113000
DTSTAMP:20260423T142938
CREATED:20230702T190947Z
LAST-MODIFIED:20230702T193727Z
UID:10000836-1787308200-1787311800@interfaithwelcomecoalition.org
SUMMARY:City of San Antonio Immigration Liaison Stakeholders Meeting
DESCRIPTION:
URL:https://interfaithwelcomecoalition.org/event/city-of-san-antonio-immigration-liaison-stakeholders-meeting/2026-08-21/
ATTACH;FMTTYPE=image/jpeg:https://eadn-wc04-5307158.nxedge.io/wp-content/uploads/2023/07/san-antonio-logo.jpg
END:VEVENT
BEGIN:VEVENT
DTSTART;TZID=America/Chicago:20260918T103000
DTEND;TZID=America/Chicago:20260918T113000
DTSTAMP:20260423T142938
CREATED:20230702T190947Z
LAST-MODIFIED:20230702T193727Z
UID:10000837-1789727400-1789731000@interfaithwelcomecoalition.org
SUMMARY:City of San Antonio Immigration Liaison Stakeholders Meeting
DESCRIPTION:
URL:https://interfaithwelcomecoalition.org/event/city-of-san-antonio-immigration-liaison-stakeholders-meeting/2026-09-18/
ATTACH;FMTTYPE=image/jpeg:https://eadn-wc04-5307158.nxedge.io/wp-content/uploads/2023/07/san-antonio-logo.jpg
END:VEVENT
BEGIN:VEVENT
DTSTART;TZID=America/Chicago:20261016T103000
DTEND;TZID=America/Chicago:20261016T113000
DTSTAMP:20260423T142938
CREATED:20230702T190947Z
LAST-MODIFIED:20230702T193727Z
UID:10000838-1792146600-1792150200@interfaithwelcomecoalition.org
SUMMARY:City of San Antonio Immigration Liaison Stakeholders Meeting
DESCRIPTION:
URL:https://interfaithwelcomecoalition.org/event/city-of-san-antonio-immigration-liaison-stakeholders-meeting/2026-10-16/
ATTACH;FMTTYPE=image/jpeg:https://eadn-wc04-5307158.nxedge.io/wp-content/uploads/2023/07/san-antonio-logo.jpg
END:VEVENT
BEGIN:VEVENT
DTSTART;TZID=America/Chicago:20261120T103000
DTEND;TZID=America/Chicago:20261120T113000
DTSTAMP:20260423T142938
CREATED:20230702T190947Z
LAST-MODIFIED:20230702T193727Z
UID:10000839-1795170600-1795174200@interfaithwelcomecoalition.org
SUMMARY:City of San Antonio Immigration Liaison Stakeholders Meeting
DESCRIPTION:
URL:https://interfaithwelcomecoalition.org/event/city-of-san-antonio-immigration-liaison-stakeholders-meeting/2026-11-20/
ATTACH;FMTTYPE=image/jpeg:https://eadn-wc04-5307158.nxedge.io/wp-content/uploads/2023/07/san-antonio-logo.jpg
END:VEVENT
BEGIN:VEVENT
DTSTART;TZID=America/Chicago:20261218T103000
DTEND;TZID=America/Chicago:20261218T113000
DTSTAMP:20260423T142938
CREATED:20230702T190947Z
LAST-MODIFIED:20230702T193727Z
UID:10000840-1797589800-1797593400@interfaithwelcomecoalition.org
SUMMARY:City of San Antonio Immigration Liaison Stakeholders Meeting
DESCRIPTION:
URL:https://interfaithwelcomecoalition.org/event/city-of-san-antonio-immigration-liaison-stakeholders-meeting/2026-12-18/
ATTACH;FMTTYPE=image/jpeg:https://eadn-wc04-5307158.nxedge.io/wp-content/uploads/2023/07/san-antonio-logo.jpg
END:VEVENT
BEGIN:VEVENT
DTSTART;TZID=America/Chicago:20270115T103000
DTEND;TZID=America/Chicago:20270115T113000
DTSTAMP:20260423T142938
CREATED:20230702T190947Z
LAST-MODIFIED:20230702T193727Z
UID:10000841-1800009000-1800012600@interfaithwelcomecoalition.org
SUMMARY:City of San Antonio Immigration Liaison Stakeholders Meeting
DESCRIPTION:
URL:https://interfaithwelcomecoalition.org/event/city-of-san-antonio-immigration-liaison-stakeholders-meeting/2027-01-15/
ATTACH;FMTTYPE=image/jpeg:https://eadn-wc04-5307158.nxedge.io/wp-content/uploads/2023/07/san-antonio-logo.jpg
END:VEVENT
BEGIN:VEVENT
DTSTART;TZID=America/Chicago:20270219T103000
DTEND;TZID=America/Chicago:20270219T113000
DTSTAMP:20260423T142938
CREATED:20230702T190947Z
LAST-MODIFIED:20230702T193727Z
UID:10000842-1803033000-1803036600@interfaithwelcomecoalition.org
SUMMARY:City of San Antonio Immigration Liaison Stakeholders Meeting
DESCRIPTION:
URL:https://interfaithwelcomecoalition.org/event/city-of-san-antonio-immigration-liaison-stakeholders-meeting/2027-02-19/
ATTACH;FMTTYPE=image/jpeg:https://eadn-wc04-5307158.nxedge.io/wp-content/uploads/2023/07/san-antonio-logo.jpg
END:VEVENT
BEGIN:VEVENT
DTSTART;TZID=America/Chicago:20270319T103000
DTEND;TZID=America/Chicago:20270319T113000
DTSTAMP:20260423T142938
CREATED:20230702T190947Z
LAST-MODIFIED:20230702T193727Z
UID:10000843-1805452200-1805455800@interfaithwelcomecoalition.org
SUMMARY:City of San Antonio Immigration Liaison Stakeholders Meeting
DESCRIPTION:
URL:https://interfaithwelcomecoalition.org/event/city-of-san-antonio-immigration-liaison-stakeholders-meeting/2027-03-19/
ATTACH;FMTTYPE=image/jpeg:https://eadn-wc04-5307158.nxedge.io/wp-content/uploads/2023/07/san-antonio-logo.jpg
END:VEVENT
BEGIN:VEVENT
DTSTART;TZID=America/Chicago:20270416T103000
DTEND;TZID=America/Chicago:20270416T113000
DTSTAMP:20260423T142938
CREATED:20230702T190947Z
LAST-MODIFIED:20230702T193727Z
UID:10000844-1807871400-1807875000@interfaithwelcomecoalition.org
SUMMARY:City of San Antonio Immigration Liaison Stakeholders Meeting
DESCRIPTION:
URL:https://interfaithwelcomecoalition.org/event/city-of-san-antonio-immigration-liaison-stakeholders-meeting/2027-04-16/
ATTACH;FMTTYPE=image/jpeg:https://eadn-wc04-5307158.nxedge.io/wp-content/uploads/2023/07/san-antonio-logo.jpg
END:VEVENT
BEGIN:VEVENT
DTSTART;TZID=America/Chicago:20270521T103000
DTEND;TZID=America/Chicago:20270521T113000
DTSTAMP:20260423T142938
CREATED:20230702T190947Z
LAST-MODIFIED:20230702T193727Z
UID:10000845-1810895400-1810899000@interfaithwelcomecoalition.org
SUMMARY:City of San Antonio Immigration Liaison Stakeholders Meeting
DESCRIPTION:
URL:https://interfaithwelcomecoalition.org/event/city-of-san-antonio-immigration-liaison-stakeholders-meeting/2027-05-21/
ATTACH;FMTTYPE=image/jpeg:https://eadn-wc04-5307158.nxedge.io/wp-content/uploads/2023/07/san-antonio-logo.jpg
END:VEVENT
BEGIN:VEVENT
DTSTART;TZID=America/Chicago:20270618T103000
DTEND;TZID=America/Chicago:20270618T113000
DTSTAMP:20260423T142938
CREATED:20230702T190947Z
LAST-MODIFIED:20230702T193727Z
UID:10000846-1813314600-1813318200@interfaithwelcomecoalition.org
SUMMARY:City of San Antonio Immigration Liaison Stakeholders Meeting
DESCRIPTION:
URL:https://interfaithwelcomecoalition.org/event/city-of-san-antonio-immigration-liaison-stakeholders-meeting/2027-06-18/
ATTACH;FMTTYPE=image/jpeg:https://eadn-wc04-5307158.nxedge.io/wp-content/uploads/2023/07/san-antonio-logo.jpg
END:VEVENT
BEGIN:VEVENT
DTSTART;TZID=America/Chicago:20270716T103000
DTEND;TZID=America/Chicago:20270716T113000
DTSTAMP:20260423T142938
CREATED:20230702T190947Z
LAST-MODIFIED:20230702T193727Z
UID:10000847-1815733800-1815737400@interfaithwelcomecoalition.org
SUMMARY:City of San Antonio Immigration Liaison Stakeholders Meeting
DESCRIPTION:
URL:https://interfaithwelcomecoalition.org/event/city-of-san-antonio-immigration-liaison-stakeholders-meeting/2027-07-16/
ATTACH;FMTTYPE=image/jpeg:https://eadn-wc04-5307158.nxedge.io/wp-content/uploads/2023/07/san-antonio-logo.jpg
END:VEVENT
BEGIN:VEVENT
DTSTART;TZID=America/Chicago:20270820T103000
DTEND;TZID=America/Chicago:20270820T113000
DTSTAMP:20260423T142938
CREATED:20230702T190947Z
LAST-MODIFIED:20230702T193727Z
UID:10000848-1818757800-1818761400@interfaithwelcomecoalition.org
SUMMARY:City of San Antonio Immigration Liaison Stakeholders Meeting
DESCRIPTION:
URL:https://interfaithwelcomecoalition.org/event/city-of-san-antonio-immigration-liaison-stakeholders-meeting/2027-08-20/
ATTACH;FMTTYPE=image/jpeg:https://eadn-wc04-5307158.nxedge.io/wp-content/uploads/2023/07/san-antonio-logo.jpg
END:VEVENT
BEGIN:VEVENT
DTSTART;TZID=America/Chicago:20270917T103000
DTEND;TZID=America/Chicago:20270917T113000
DTSTAMP:20260423T142938
CREATED:20230702T190947Z
LAST-MODIFIED:20230702T193727Z
UID:10000849-1821177000-1821180600@interfaithwelcomecoalition.org
SUMMARY:City of San Antonio Immigration Liaison Stakeholders Meeting
DESCRIPTION:
URL:https://interfaithwelcomecoalition.org/event/city-of-san-antonio-immigration-liaison-stakeholders-meeting/2027-09-17/
ATTACH;FMTTYPE=image/jpeg:https://eadn-wc04-5307158.nxedge.io/wp-content/uploads/2023/07/san-antonio-logo.jpg
END:VEVENT
BEGIN:VEVENT
DTSTART;TZID=America/Chicago:20271015T103000
DTEND;TZID=America/Chicago:20271015T113000
DTSTAMP:20260423T142938
CREATED:20230702T190947Z
LAST-MODIFIED:20230702T193727Z
UID:10000850-1823596200-1823599800@interfaithwelcomecoalition.org
SUMMARY:City of San Antonio Immigration Liaison Stakeholders Meeting
DESCRIPTION:
URL:https://interfaithwelcomecoalition.org/event/city-of-san-antonio-immigration-liaison-stakeholders-meeting/2027-10-15/
ATTACH;FMTTYPE=image/jpeg:https://eadn-wc04-5307158.nxedge.io/wp-content/uploads/2023/07/san-antonio-logo.jpg
END:VEVENT
BEGIN:VEVENT
DTSTART;TZID=America/Chicago:20271119T103000
DTEND;TZID=America/Chicago:20271119T113000
DTSTAMP:20260423T142938
CREATED:20230702T190947Z
LAST-MODIFIED:20230702T193727Z
UID:10000851-1826620200-1826623800@interfaithwelcomecoalition.org
SUMMARY:City of San Antonio Immigration Liaison Stakeholders Meeting
DESCRIPTION:
URL:https://interfaithwelcomecoalition.org/event/city-of-san-antonio-immigration-liaison-stakeholders-meeting/2027-11-19/
ATTACH;FMTTYPE=image/jpeg:https://eadn-wc04-5307158.nxedge.io/wp-content/uploads/2023/07/san-antonio-logo.jpg
END:VEVENT
BEGIN:VEVENT
DTSTART;TZID=America/Chicago:20271217T103000
DTEND;TZID=America/Chicago:20271217T113000
DTSTAMP:20260423T142938
CREATED:20230702T190947Z
LAST-MODIFIED:20230702T193727Z
UID:10000852-1829039400-1829043000@interfaithwelcomecoalition.org
SUMMARY:City of San Antonio Immigration Liaison Stakeholders Meeting
DESCRIPTION:
URL:https://interfaithwelcomecoalition.org/event/city-of-san-antonio-immigration-liaison-stakeholders-meeting/2027-12-17/
ATTACH;FMTTYPE=image/jpeg:https://eadn-wc04-5307158.nxedge.io/wp-content/uploads/2023/07/san-antonio-logo.jpg
END:VEVENT
BEGIN:VEVENT
DTSTART;TZID=America/Chicago:20280121T103000
DTEND;TZID=America/Chicago:20280121T113000
DTSTAMP:20260423T142938
CREATED:20230702T190947Z
LAST-MODIFIED:20230702T193727Z
UID:10000853-1832063400-1832067000@interfaithwelcomecoalition.org
SUMMARY:City of San Antonio Immigration Liaison Stakeholders Meeting
DESCRIPTION:
URL:https://interfaithwelcomecoalition.org/event/city-of-san-antonio-immigration-liaison-stakeholders-meeting/2028-01-21/
ATTACH;FMTTYPE=image/jpeg:https://eadn-wc04-5307158.nxedge.io/wp-content/uploads/2023/07/san-antonio-logo.jpg
END:VEVENT
BEGIN:VEVENT
DTSTART;TZID=America/Chicago:20280218T103000
DTEND;TZID=America/Chicago:20280218T113000
DTSTAMP:20260423T142938
CREATED:20230702T190947Z
LAST-MODIFIED:20230702T193727Z
UID:10000854-1834482600-1834486200@interfaithwelcomecoalition.org
SUMMARY:City of San Antonio Immigration Liaison Stakeholders Meeting
DESCRIPTION:
URL:https://interfaithwelcomecoalition.org/event/city-of-san-antonio-immigration-liaison-stakeholders-meeting/2028-02-18/
ATTACH;FMTTYPE=image/jpeg:https://eadn-wc04-5307158.nxedge.io/wp-content/uploads/2023/07/san-antonio-logo.jpg
END:VEVENT
BEGIN:VEVENT
DTSTART;TZID=America/Chicago:20280317T103000
DTEND;TZID=America/Chicago:20280317T113000
DTSTAMP:20260423T142938
CREATED:20230702T190947Z
LAST-MODIFIED:20230702T193727Z
UID:10000855-1836901800-1836905400@interfaithwelcomecoalition.org
SUMMARY:City of San Antonio Immigration Liaison Stakeholders Meeting
DESCRIPTION:
URL:https://interfaithwelcomecoalition.org/event/city-of-san-antonio-immigration-liaison-stakeholders-meeting/2028-03-17/
ATTACH;FMTTYPE=image/jpeg:https://eadn-wc04-5307158.nxedge.io/wp-content/uploads/2023/07/san-antonio-logo.jpg
END:VEVENT
BEGIN:VEVENT
DTSTART;TZID=America/Chicago:20280421T103000
DTEND;TZID=America/Chicago:20280421T113000
DTSTAMP:20260423T142938
CREATED:20230702T190947Z
LAST-MODIFIED:20230702T193727Z
UID:10000856-1839925800-1839929400@interfaithwelcomecoalition.org
SUMMARY:City of San Antonio Immigration Liaison Stakeholders Meeting
DESCRIPTION:
URL:https://interfaithwelcomecoalition.org/event/city-of-san-antonio-immigration-liaison-stakeholders-meeting/2028-04-21/
ATTACH;FMTTYPE=image/jpeg:https://eadn-wc04-5307158.nxedge.io/wp-content/uploads/2023/07/san-antonio-logo.jpg
END:VEVENT
BEGIN:VEVENT
DTSTART;TZID=America/Chicago:20280519T103000
DTEND;TZID=America/Chicago:20280519T113000
DTSTAMP:20260423T142938
CREATED:20230702T190947Z
LAST-MODIFIED:20230702T193727Z
UID:10000857-1842345000-1842348600@interfaithwelcomecoalition.org
SUMMARY:City of San Antonio Immigration Liaison Stakeholders Meeting
DESCRIPTION:
URL:https://interfaithwelcomecoalition.org/event/city-of-san-antonio-immigration-liaison-stakeholders-meeting/2028-05-19/
ATTACH;FMTTYPE=image/jpeg:https://eadn-wc04-5307158.nxedge.io/wp-content/uploads/2023/07/san-antonio-logo.jpg
END:VEVENT
BEGIN:VEVENT
DTSTART;TZID=America/Chicago:20280616T103000
DTEND;TZID=America/Chicago:20280616T113000
DTSTAMP:20260423T142938
CREATED:20230702T190947Z
LAST-MODIFIED:20230702T193727Z
UID:10000858-1844764200-1844767800@interfaithwelcomecoalition.org
SUMMARY:City of San Antonio Immigration Liaison Stakeholders Meeting
DESCRIPTION:
URL:https://interfaithwelcomecoalition.org/event/city-of-san-antonio-immigration-liaison-stakeholders-meeting/2028-06-16/
ATTACH;FMTTYPE=image/jpeg:https://eadn-wc04-5307158.nxedge.io/wp-content/uploads/2023/07/san-antonio-logo.jpg
END:VEVENT
END:VCALENDAR