BEGIN:VCALENDAR
VERSION:2.0
PRODID:-//Interfaith Welcome Coalition - ECPv6.15.20//NONSGML v1.0//EN
CALSCALE:GREGORIAN
METHOD:PUBLISH
X-WR-CALNAME:Interfaith Welcome Coalition
X-ORIGINAL-URL:https://interfaithwelcomecoalition.org
X-WR-CALDESC:Events for Interfaith Welcome Coalition
REFRESH-INTERVAL;VALUE=DURATION:PT1H
X-Robots-Tag:noindex
X-PUBLISHED-TTL:PT1H
BEGIN:VTIMEZONE
TZID:America/Chicago
BEGIN:DAYLIGHT
TZOFFSETFROM:-0600
TZOFFSETTO:-0500
TZNAME:CDT
DTSTART:20250309T080000
END:DAYLIGHT
BEGIN:STANDARD
TZOFFSETFROM:-0500
TZOFFSETTO:-0600
TZNAME:CST
DTSTART:20251102T070000
END:STANDARD
BEGIN:DAYLIGHT
TZOFFSETFROM:-0600
TZOFFSETTO:-0500
TZNAME:CDT
DTSTART:20260308T080000
END:DAYLIGHT
BEGIN:STANDARD
TZOFFSETFROM:-0500
TZOFFSETTO:-0600
TZNAME:CST
DTSTART:20261101T070000
END:STANDARD
BEGIN:DAYLIGHT
TZOFFSETFROM:-0600
TZOFFSETTO:-0500
TZNAME:CDT
DTSTART:20270314T080000
END:DAYLIGHT
BEGIN:STANDARD
TZOFFSETFROM:-0500
TZOFFSETTO:-0600
TZNAME:CST
DTSTART:20271107T070000
END:STANDARD
BEGIN:DAYLIGHT
TZOFFSETFROM:-0600
TZOFFSETTO:-0500
TZNAME:CDT
DTSTART:20280312T080000
END:DAYLIGHT
BEGIN:STANDARD
TZOFFSETFROM:-0500
TZOFFSETTO:-0600
TZNAME:CST
DTSTART:20281105T070000
END:STANDARD
BEGIN:DAYLIGHT
TZOFFSETFROM:-0600
TZOFFSETTO:-0500
TZNAME:CDT
DTSTART:20290311T080000
END:DAYLIGHT
BEGIN:STANDARD
TZOFFSETFROM:-0500
TZOFFSETTO:-0600
TZNAME:CST
DTSTART:20291104T070000
END:STANDARD
END:VTIMEZONE
BEGIN:VEVENT
DTSTART;TZID=America/Chicago:20260508T100000
DTEND;TZID=America/Chicago:20260508T110000
DTSTAMP:20260423T131832
CREATED:20230607T033230Z
LAST-MODIFIED:20230607T034552Z
UID:10000774-1778234400-1778238000@interfaithwelcomecoalition.org
SUMMARY:Shelter Network Working Group - Second Friday
DESCRIPTION:
URL:https://interfaithwelcomecoalition.org/event/shelter-network-working-group-second-friday/2026-05-08/
LOCATION:Zoom
ATTACH;FMTTYPE=image/jpeg:https://eadn-wc04-5307158.nxedge.io/wp-content/uploads/2023/06/housing-e1686107639817.jpg
END:VEVENT
BEGIN:VEVENT
DTSTART;TZID=America/Chicago:20260612T100000
DTEND;TZID=America/Chicago:20260612T110000
DTSTAMP:20260423T131832
CREATED:20230607T033230Z
LAST-MODIFIED:20230607T034552Z
UID:10000775-1781258400-1781262000@interfaithwelcomecoalition.org
SUMMARY:Shelter Network Working Group - Second Friday
DESCRIPTION:
URL:https://interfaithwelcomecoalition.org/event/shelter-network-working-group-second-friday/2026-06-12/
LOCATION:Zoom
ATTACH;FMTTYPE=image/jpeg:https://eadn-wc04-5307158.nxedge.io/wp-content/uploads/2023/06/housing-e1686107639817.jpg
END:VEVENT
BEGIN:VEVENT
DTSTART;TZID=America/Chicago:20260710T100000
DTEND;TZID=America/Chicago:20260710T110000
DTSTAMP:20260423T131832
CREATED:20230607T033230Z
LAST-MODIFIED:20230607T034552Z
UID:10000776-1783677600-1783681200@interfaithwelcomecoalition.org
SUMMARY:Shelter Network Working Group - Second Friday
DESCRIPTION:
URL:https://interfaithwelcomecoalition.org/event/shelter-network-working-group-second-friday/2026-07-10/
LOCATION:Zoom
ATTACH;FMTTYPE=image/jpeg:https://eadn-wc04-5307158.nxedge.io/wp-content/uploads/2023/06/housing-e1686107639817.jpg
END:VEVENT
BEGIN:VEVENT
DTSTART;TZID=America/Chicago:20260814T100000
DTEND;TZID=America/Chicago:20260814T110000
DTSTAMP:20260423T131832
CREATED:20230607T033230Z
LAST-MODIFIED:20230607T034552Z
UID:10000777-1786701600-1786705200@interfaithwelcomecoalition.org
SUMMARY:Shelter Network Working Group - Second Friday
DESCRIPTION:
URL:https://interfaithwelcomecoalition.org/event/shelter-network-working-group-second-friday/2026-08-14/
LOCATION:Zoom
ATTACH;FMTTYPE=image/jpeg:https://eadn-wc04-5307158.nxedge.io/wp-content/uploads/2023/06/housing-e1686107639817.jpg
END:VEVENT
BEGIN:VEVENT
DTSTART;TZID=America/Chicago:20260911T100000
DTEND;TZID=America/Chicago:20260911T110000
DTSTAMP:20260423T131832
CREATED:20230607T033230Z
LAST-MODIFIED:20230607T034552Z
UID:10000778-1789120800-1789124400@interfaithwelcomecoalition.org
SUMMARY:Shelter Network Working Group - Second Friday
DESCRIPTION:
URL:https://interfaithwelcomecoalition.org/event/shelter-network-working-group-second-friday/2026-09-11/
LOCATION:Zoom
ATTACH;FMTTYPE=image/jpeg:https://eadn-wc04-5307158.nxedge.io/wp-content/uploads/2023/06/housing-e1686107639817.jpg
END:VEVENT
BEGIN:VEVENT
DTSTART;TZID=America/Chicago:20261009T100000
DTEND;TZID=America/Chicago:20261009T110000
DTSTAMP:20260423T131832
CREATED:20230607T033230Z
LAST-MODIFIED:20230607T034552Z
UID:10000779-1791540000-1791543600@interfaithwelcomecoalition.org
SUMMARY:Shelter Network Working Group - Second Friday
DESCRIPTION:
URL:https://interfaithwelcomecoalition.org/event/shelter-network-working-group-second-friday/2026-10-09/
LOCATION:Zoom
ATTACH;FMTTYPE=image/jpeg:https://eadn-wc04-5307158.nxedge.io/wp-content/uploads/2023/06/housing-e1686107639817.jpg
END:VEVENT
BEGIN:VEVENT
DTSTART;TZID=America/Chicago:20261113T100000
DTEND;TZID=America/Chicago:20261113T110000
DTSTAMP:20260423T131832
CREATED:20230607T033230Z
LAST-MODIFIED:20230607T034552Z
UID:10000780-1794564000-1794567600@interfaithwelcomecoalition.org
SUMMARY:Shelter Network Working Group - Second Friday
DESCRIPTION:
URL:https://interfaithwelcomecoalition.org/event/shelter-network-working-group-second-friday/2026-11-13/
LOCATION:Zoom
ATTACH;FMTTYPE=image/jpeg:https://eadn-wc04-5307158.nxedge.io/wp-content/uploads/2023/06/housing-e1686107639817.jpg
END:VEVENT
BEGIN:VEVENT
DTSTART;TZID=America/Chicago:20261211T100000
DTEND;TZID=America/Chicago:20261211T110000
DTSTAMP:20260423T131832
CREATED:20230607T033230Z
LAST-MODIFIED:20230607T034552Z
UID:10000781-1796983200-1796986800@interfaithwelcomecoalition.org
SUMMARY:Shelter Network Working Group - Second Friday
DESCRIPTION:
URL:https://interfaithwelcomecoalition.org/event/shelter-network-working-group-second-friday/2026-12-11/
LOCATION:Zoom
ATTACH;FMTTYPE=image/jpeg:https://eadn-wc04-5307158.nxedge.io/wp-content/uploads/2023/06/housing-e1686107639817.jpg
END:VEVENT
BEGIN:VEVENT
DTSTART;TZID=America/Chicago:20270108T100000
DTEND;TZID=America/Chicago:20270108T110000
DTSTAMP:20260423T131832
CREATED:20230607T033230Z
LAST-MODIFIED:20230607T034552Z
UID:10000782-1799402400-1799406000@interfaithwelcomecoalition.org
SUMMARY:Shelter Network Working Group - Second Friday
DESCRIPTION:
URL:https://interfaithwelcomecoalition.org/event/shelter-network-working-group-second-friday/2027-01-08/
LOCATION:Zoom
ATTACH;FMTTYPE=image/jpeg:https://eadn-wc04-5307158.nxedge.io/wp-content/uploads/2023/06/housing-e1686107639817.jpg
END:VEVENT
BEGIN:VEVENT
DTSTART;TZID=America/Chicago:20270212T100000
DTEND;TZID=America/Chicago:20270212T110000
DTSTAMP:20260423T131832
CREATED:20230607T033230Z
LAST-MODIFIED:20230607T034552Z
UID:10000783-1802426400-1802430000@interfaithwelcomecoalition.org
SUMMARY:Shelter Network Working Group - Second Friday
DESCRIPTION:
URL:https://interfaithwelcomecoalition.org/event/shelter-network-working-group-second-friday/2027-02-12/
LOCATION:Zoom
ATTACH;FMTTYPE=image/jpeg:https://eadn-wc04-5307158.nxedge.io/wp-content/uploads/2023/06/housing-e1686107639817.jpg
END:VEVENT
BEGIN:VEVENT
DTSTART;TZID=America/Chicago:20270312T100000
DTEND;TZID=America/Chicago:20270312T110000
DTSTAMP:20260423T131832
CREATED:20230607T033230Z
LAST-MODIFIED:20230607T034552Z
UID:10000784-1804845600-1804849200@interfaithwelcomecoalition.org
SUMMARY:Shelter Network Working Group - Second Friday
DESCRIPTION:
URL:https://interfaithwelcomecoalition.org/event/shelter-network-working-group-second-friday/2027-03-12/
LOCATION:Zoom
ATTACH;FMTTYPE=image/jpeg:https://eadn-wc04-5307158.nxedge.io/wp-content/uploads/2023/06/housing-e1686107639817.jpg
END:VEVENT
BEGIN:VEVENT
DTSTART;TZID=America/Chicago:20270409T100000
DTEND;TZID=America/Chicago:20270409T110000
DTSTAMP:20260423T131832
CREATED:20230607T033230Z
LAST-MODIFIED:20230607T034552Z
UID:10000785-1807264800-1807268400@interfaithwelcomecoalition.org
SUMMARY:Shelter Network Working Group - Second Friday
DESCRIPTION:
URL:https://interfaithwelcomecoalition.org/event/shelter-network-working-group-second-friday/2027-04-09/
LOCATION:Zoom
ATTACH;FMTTYPE=image/jpeg:https://eadn-wc04-5307158.nxedge.io/wp-content/uploads/2023/06/housing-e1686107639817.jpg
END:VEVENT
BEGIN:VEVENT
DTSTART;TZID=America/Chicago:20270514T100000
DTEND;TZID=America/Chicago:20270514T110000
DTSTAMP:20260423T131832
CREATED:20230607T033230Z
LAST-MODIFIED:20230607T034552Z
UID:10000786-1810288800-1810292400@interfaithwelcomecoalition.org
SUMMARY:Shelter Network Working Group - Second Friday
DESCRIPTION:
URL:https://interfaithwelcomecoalition.org/event/shelter-network-working-group-second-friday/2027-05-14/
LOCATION:Zoom
ATTACH;FMTTYPE=image/jpeg:https://eadn-wc04-5307158.nxedge.io/wp-content/uploads/2023/06/housing-e1686107639817.jpg
END:VEVENT
BEGIN:VEVENT
DTSTART;TZID=America/Chicago:20270611T100000
DTEND;TZID=America/Chicago:20270611T110000
DTSTAMP:20260423T131832
CREATED:20230607T033230Z
LAST-MODIFIED:20230607T034552Z
UID:10000787-1812708000-1812711600@interfaithwelcomecoalition.org
SUMMARY:Shelter Network Working Group - Second Friday
DESCRIPTION:
URL:https://interfaithwelcomecoalition.org/event/shelter-network-working-group-second-friday/2027-06-11/
LOCATION:Zoom
ATTACH;FMTTYPE=image/jpeg:https://eadn-wc04-5307158.nxedge.io/wp-content/uploads/2023/06/housing-e1686107639817.jpg
END:VEVENT
BEGIN:VEVENT
DTSTART;TZID=America/Chicago:20270709T100000
DTEND;TZID=America/Chicago:20270709T110000
DTSTAMP:20260423T131832
CREATED:20230607T033230Z
LAST-MODIFIED:20230607T034552Z
UID:10000788-1815127200-1815130800@interfaithwelcomecoalition.org
SUMMARY:Shelter Network Working Group - Second Friday
DESCRIPTION:
URL:https://interfaithwelcomecoalition.org/event/shelter-network-working-group-second-friday/2027-07-09/
LOCATION:Zoom
ATTACH;FMTTYPE=image/jpeg:https://eadn-wc04-5307158.nxedge.io/wp-content/uploads/2023/06/housing-e1686107639817.jpg
END:VEVENT
BEGIN:VEVENT
DTSTART;TZID=America/Chicago:20270813T100000
DTEND;TZID=America/Chicago:20270813T110000
DTSTAMP:20260423T131832
CREATED:20230607T033230Z
LAST-MODIFIED:20230607T034552Z
UID:10000789-1818151200-1818154800@interfaithwelcomecoalition.org
SUMMARY:Shelter Network Working Group - Second Friday
DESCRIPTION:
URL:https://interfaithwelcomecoalition.org/event/shelter-network-working-group-second-friday/2027-08-13/
LOCATION:Zoom
ATTACH;FMTTYPE=image/jpeg:https://eadn-wc04-5307158.nxedge.io/wp-content/uploads/2023/06/housing-e1686107639817.jpg
END:VEVENT
BEGIN:VEVENT
DTSTART;TZID=America/Chicago:20270910T100000
DTEND;TZID=America/Chicago:20270910T110000
DTSTAMP:20260423T131832
CREATED:20230607T033230Z
LAST-MODIFIED:20230607T034552Z
UID:10000790-1820570400-1820574000@interfaithwelcomecoalition.org
SUMMARY:Shelter Network Working Group - Second Friday
DESCRIPTION:
URL:https://interfaithwelcomecoalition.org/event/shelter-network-working-group-second-friday/2027-09-10/
LOCATION:Zoom
ATTACH;FMTTYPE=image/jpeg:https://eadn-wc04-5307158.nxedge.io/wp-content/uploads/2023/06/housing-e1686107639817.jpg
END:VEVENT
BEGIN:VEVENT
DTSTART;TZID=America/Chicago:20271008T100000
DTEND;TZID=America/Chicago:20271008T110000
DTSTAMP:20260423T131832
CREATED:20230607T033230Z
LAST-MODIFIED:20230607T034552Z
UID:10000791-1822989600-1822993200@interfaithwelcomecoalition.org
SUMMARY:Shelter Network Working Group - Second Friday
DESCRIPTION:
URL:https://interfaithwelcomecoalition.org/event/shelter-network-working-group-second-friday/2027-10-08/
LOCATION:Zoom
ATTACH;FMTTYPE=image/jpeg:https://eadn-wc04-5307158.nxedge.io/wp-content/uploads/2023/06/housing-e1686107639817.jpg
END:VEVENT
BEGIN:VEVENT
DTSTART;TZID=America/Chicago:20271112T100000
DTEND;TZID=America/Chicago:20271112T110000
DTSTAMP:20260423T131832
CREATED:20230607T033230Z
LAST-MODIFIED:20230607T034552Z
UID:10000792-1826013600-1826017200@interfaithwelcomecoalition.org
SUMMARY:Shelter Network Working Group - Second Friday
DESCRIPTION:
URL:https://interfaithwelcomecoalition.org/event/shelter-network-working-group-second-friday/2027-11-12/
LOCATION:Zoom
ATTACH;FMTTYPE=image/jpeg:https://eadn-wc04-5307158.nxedge.io/wp-content/uploads/2023/06/housing-e1686107639817.jpg
END:VEVENT
BEGIN:VEVENT
DTSTART;TZID=America/Chicago:20271210T100000
DTEND;TZID=America/Chicago:20271210T110000
DTSTAMP:20260423T131832
CREATED:20230607T033230Z
LAST-MODIFIED:20230607T034552Z
UID:10000793-1828432800-1828436400@interfaithwelcomecoalition.org
SUMMARY:Shelter Network Working Group - Second Friday
DESCRIPTION:
URL:https://interfaithwelcomecoalition.org/event/shelter-network-working-group-second-friday/2027-12-10/
LOCATION:Zoom
ATTACH;FMTTYPE=image/jpeg:https://eadn-wc04-5307158.nxedge.io/wp-content/uploads/2023/06/housing-e1686107639817.jpg
END:VEVENT
BEGIN:VEVENT
DTSTART;TZID=America/Chicago:20280114T100000
DTEND;TZID=America/Chicago:20280114T110000
DTSTAMP:20260423T131832
CREATED:20230607T033230Z
LAST-MODIFIED:20230607T034552Z
UID:10000794-1831456800-1831460400@interfaithwelcomecoalition.org
SUMMARY:Shelter Network Working Group - Second Friday
DESCRIPTION:
URL:https://interfaithwelcomecoalition.org/event/shelter-network-working-group-second-friday/2028-01-14/
LOCATION:Zoom
ATTACH;FMTTYPE=image/jpeg:https://eadn-wc04-5307158.nxedge.io/wp-content/uploads/2023/06/housing-e1686107639817.jpg
END:VEVENT
BEGIN:VEVENT
DTSTART;TZID=America/Chicago:20280211T100000
DTEND;TZID=America/Chicago:20280211T110000
DTSTAMP:20260423T131832
CREATED:20230607T033230Z
LAST-MODIFIED:20230607T034552Z
UID:10000795-1833876000-1833879600@interfaithwelcomecoalition.org
SUMMARY:Shelter Network Working Group - Second Friday
DESCRIPTION:
URL:https://interfaithwelcomecoalition.org/event/shelter-network-working-group-second-friday/2028-02-11/
LOCATION:Zoom
ATTACH;FMTTYPE=image/jpeg:https://eadn-wc04-5307158.nxedge.io/wp-content/uploads/2023/06/housing-e1686107639817.jpg
END:VEVENT
BEGIN:VEVENT
DTSTART;TZID=America/Chicago:20280310T100000
DTEND;TZID=America/Chicago:20280310T110000
DTSTAMP:20260423T131832
CREATED:20230607T033230Z
LAST-MODIFIED:20230607T034552Z
UID:10000796-1836295200-1836298800@interfaithwelcomecoalition.org
SUMMARY:Shelter Network Working Group - Second Friday
DESCRIPTION:
URL:https://interfaithwelcomecoalition.org/event/shelter-network-working-group-second-friday/2028-03-10/
LOCATION:Zoom
ATTACH;FMTTYPE=image/jpeg:https://eadn-wc04-5307158.nxedge.io/wp-content/uploads/2023/06/housing-e1686107639817.jpg
END:VEVENT
BEGIN:VEVENT
DTSTART;TZID=America/Chicago:20280414T100000
DTEND;TZID=America/Chicago:20280414T110000
DTSTAMP:20260423T131832
CREATED:20230607T033230Z
LAST-MODIFIED:20230607T034552Z
UID:10000797-1839319200-1839322800@interfaithwelcomecoalition.org
SUMMARY:Shelter Network Working Group - Second Friday
DESCRIPTION:
URL:https://interfaithwelcomecoalition.org/event/shelter-network-working-group-second-friday/2028-04-14/
LOCATION:Zoom
ATTACH;FMTTYPE=image/jpeg:https://eadn-wc04-5307158.nxedge.io/wp-content/uploads/2023/06/housing-e1686107639817.jpg
END:VEVENT
BEGIN:VEVENT
DTSTART;TZID=America/Chicago:20280512T100000
DTEND;TZID=America/Chicago:20280512T110000
DTSTAMP:20260423T131832
CREATED:20230607T033230Z
LAST-MODIFIED:20230607T034552Z
UID:10000798-1841738400-1841742000@interfaithwelcomecoalition.org
SUMMARY:Shelter Network Working Group - Second Friday
DESCRIPTION:
URL:https://interfaithwelcomecoalition.org/event/shelter-network-working-group-second-friday/2028-05-12/
LOCATION:Zoom
ATTACH;FMTTYPE=image/jpeg:https://eadn-wc04-5307158.nxedge.io/wp-content/uploads/2023/06/housing-e1686107639817.jpg
END:VEVENT
END:VCALENDAR