BEGIN:VCALENDAR
VERSION:2.0
PRODID:-//Interfaith Welcome Coalition - ECPv6.15.20//NONSGML v1.0//EN
CALSCALE:GREGORIAN
METHOD:PUBLISH
X-WR-CALNAME:Interfaith Welcome Coalition
X-ORIGINAL-URL:https://interfaithwelcomecoalition.org
X-WR-CALDESC:Events for Interfaith Welcome Coalition
REFRESH-INTERVAL;VALUE=DURATION:PT1H
X-Robots-Tag:noindex
X-PUBLISHED-TTL:PT1H
BEGIN:VTIMEZONE
TZID:America/Chicago
BEGIN:DAYLIGHT
TZOFFSETFROM:-0600
TZOFFSETTO:-0500
TZNAME:CDT
DTSTART:20250309T080000
END:DAYLIGHT
BEGIN:STANDARD
TZOFFSETFROM:-0500
TZOFFSETTO:-0600
TZNAME:CST
DTSTART:20251102T070000
END:STANDARD
BEGIN:DAYLIGHT
TZOFFSETFROM:-0600
TZOFFSETTO:-0500
TZNAME:CDT
DTSTART:20260308T080000
END:DAYLIGHT
BEGIN:STANDARD
TZOFFSETFROM:-0500
TZOFFSETTO:-0600
TZNAME:CST
DTSTART:20261101T070000
END:STANDARD
BEGIN:DAYLIGHT
TZOFFSETFROM:-0600
TZOFFSETTO:-0500
TZNAME:CDT
DTSTART:20270314T080000
END:DAYLIGHT
BEGIN:STANDARD
TZOFFSETFROM:-0500
TZOFFSETTO:-0600
TZNAME:CST
DTSTART:20271107T070000
END:STANDARD
END:VTIMEZONE
BEGIN:VEVENT
DTSTART;TZID=America/Chicago:20260424T100000
DTEND;TZID=America/Chicago:20260424T110000
DTSTAMP:20260423T142700
CREATED:20230607T033104Z
LAST-MODIFIED:20230607T034529Z
UID:10000713-1777024800-1777028400@interfaithwelcomecoalition.org
SUMMARY:Shelter Network Working Group - Fourth Friday
DESCRIPTION:
URL:https://interfaithwelcomecoalition.org/event/shelter-network-working-group-fourth-friday/2026-04-24/
LOCATION:Zoom
ATTACH;FMTTYPE=image/jpeg:https://eadn-wc04-5307158.nxedge.io/wp-content/uploads/2023/06/housing-e1686107639817.jpg
END:VEVENT
END:VCALENDAR